BEGIN:VCALENDAR
VERSION:2.0
PRODID:-//UrbanKnox.com - ECPv6.15.20//NONSGML v1.0//EN
CALSCALE:GREGORIAN
METHOD:PUBLISH
X-ORIGINAL-URL:https://urbanknox.com
X-WR-CALDESC:Events for UrbanKnox.com
REFRESH-INTERVAL;VALUE=DURATION:PT1H
X-Robots-Tag:noindex
X-PUBLISHED-TTL:PT1H
BEGIN:VTIMEZONE
TZID:America/Indiana/Indianapolis
BEGIN:DAYLIGHT
TZOFFSETFROM:-0500
TZOFFSETTO:-0400
TZNAME:EDT
DTSTART:20250309T070000
END:DAYLIGHT
BEGIN:STANDARD
TZOFFSETFROM:-0400
TZOFFSETTO:-0500
TZNAME:EST
DTSTART:20251102T060000
END:STANDARD
BEGIN:DAYLIGHT
TZOFFSETFROM:-0500
TZOFFSETTO:-0400
TZNAME:EDT
DTSTART:20260308T070000
END:DAYLIGHT
BEGIN:STANDARD
TZOFFSETFROM:-0400
TZOFFSETTO:-0500
TZNAME:EST
DTSTART:20261101T060000
END:STANDARD
BEGIN:DAYLIGHT
TZOFFSETFROM:-0500
TZOFFSETTO:-0400
TZNAME:EDT
DTSTART:20270314T070000
END:DAYLIGHT
BEGIN:STANDARD
TZOFFSETFROM:-0400
TZOFFSETTO:-0500
TZNAME:EST
DTSTART:20271107T060000
END:STANDARD
END:VTIMEZONE
BEGIN:VEVENT
DTSTART;TZID=America/Indiana/Indianapolis:20260517T140000
DTEND;TZID=America/Indiana/Indianapolis:20260517T180000
DTSTAMP:20260425T101450
CREATED:20260423T231711Z
LAST-MODIFIED:20260423T231711Z
UID:8710-1779026400-1779040800@urbanknox.com
SUMMARY:Cattywampus Parade + Block Party
DESCRIPTION:The Cattywampus Puppet Council will be holding a procession at the River Walk Greenway. It will be followed by a festival with small stage and activity booths. 
URL:https://urbanknox.com/event/cattywampus-parade-block-party/
LOCATION:Suttree Landing Park
CATEGORIES:Special Event
END:VEVENT
BEGIN:VEVENT
DTSTART;TZID=America/Indiana/Indianapolis:20260520T100000
DTEND;TZID=America/Indiana/Indianapolis:20260520T130000
DTSTAMP:20260425T101450
CREATED:20260423T231711Z
LAST-MODIFIED:20260423T231711Z
UID:8715-1779271200-1779282000@urbanknox.com
SUMMARY:Market Square Farmers Market
DESCRIPTION:Open-air\, producer-only farmers market managed by Nourish Knoxville and held every Wednesday and Saturday\, May through October in the heart of downtown Knoxville. 
URL:https://urbanknox.com/event/market-square-farmers-market-6/
LOCATION:Market Square
CATEGORIES:Special Event
END:VEVENT
BEGIN:VEVENT
DTSTART;TZID=America/Indiana/Indianapolis:20260523T070000
DTEND;TZID=America/Indiana/Indianapolis:20260523T120000
DTSTAMP:20260425T101450
CREATED:20260423T231711Z
LAST-MODIFIED:20260423T231711Z
UID:8721-1779519600-1779537600@urbanknox.com
SUMMARY:Race for Grace
DESCRIPTION:Charity 5K to raise money for Saving Grace Women’s Home. 
URL:https://urbanknox.com/event/race-for-grace/
LOCATION:Victor Ashe Park
CATEGORIES:Special Event
END:VEVENT
BEGIN:VEVENT
DTSTART;TZID=America/Indiana/Indianapolis:20260523T090000
DTEND;TZID=America/Indiana/Indianapolis:20260523T130000
DTSTAMP:20260425T101450
CREATED:20260423T231711Z
LAST-MODIFIED:20260423T231711Z
UID:8722-1779526800-1779541200@urbanknox.com
SUMMARY:Market Square Farmers Market
DESCRIPTION:Open-air\, producer-only farmers market managed by Nourish Knoxville and held every Wednesday and Saturday\, May through October in the heart of downtown Knoxville. 
URL:https://urbanknox.com/event/market-square-farmers-market-7/
LOCATION:Market Square
CATEGORIES:Special Event
END:VEVENT
BEGIN:VEVENT
DTSTART;TZID=America/Indiana/Indianapolis:20260525T080000
DTEND;TZID=America/Indiana/Indianapolis:20260525T163000
DTSTAMP:20260425T101450
CREATED:20260423T231711Z
LAST-MODIFIED:20260423T231711Z
UID:8724-1779696000-1779726600@urbanknox.com
SUMMARY:Honor Fountain City Day
DESCRIPTION:Annual event to celebrate Veterans on Memorial Day.
URL:https://urbanknox.com/event/honor-fountain-city-day/
LOCATION:Fountain City Park on Hotel + Broadway
CATEGORIES:Special Event
END:VEVENT
BEGIN:VEVENT
DTSTART;TZID=America/Indiana/Indianapolis:20260526T190000
DTEND;TZID=America/Indiana/Indianapolis:20260526T210000
DTSTAMP:20260425T101450
CREATED:20260423T231711Z
LAST-MODIFIED:20260423T231711Z
UID:8732-1779822000-1779829200@urbanknox.com
SUMMARY:Mind Travel Live to Headphones 'Silent' Piano Concert
DESCRIPTION:Live piano concert broadcasted to wireless headphones.
URL:https://urbanknox.com/event/mind-travel-live-to-headphones-silent-piano-concert/
LOCATION:World’s Fair Park Performance Lawn
CATEGORIES:Special Event
END:VEVENT
BEGIN:VEVENT
DTSTART;TZID=America/Indiana/Indianapolis:20260527T100000
DTEND;TZID=America/Indiana/Indianapolis:20260527T130000
DTSTAMP:20260425T101450
CREATED:20260423T231711Z
LAST-MODIFIED:20260423T231711Z
UID:8733-1779876000-1779886800@urbanknox.com
SUMMARY:Market Square Farmers Market
DESCRIPTION:Open-air\, producer-only farmers market managed by Nourish Knoxville and held every Wednesday and Saturday\, May through October in the heart of downtown Knoxville. 
URL:https://urbanknox.com/event/market-square-farmers-market-8/
LOCATION:Market Square
CATEGORIES:Special Event
END:VEVENT
BEGIN:VEVENT
DTSTART;TZID=America/Indiana/Indianapolis:20260530T070000
DTEND;TZID=America/Indiana/Indianapolis:20260530T190000
DTSTAMP:20260425T101450
CREATED:20260423T231712Z
LAST-MODIFIED:20260423T231712Z
UID:8743-1780124400-1780167600@urbanknox.com
SUMMARY:BAPS Charities Walk/Run
DESCRIPTION:Annual event to encourage healthier lifestyles among the community. 
URL:https://urbanknox.com/event/baps-charities-walk-run/
LOCATION:Victor Ashe Park
CATEGORIES:Special Event
END:VEVENT
BEGIN:VEVENT
DTSTART;TZID=America/Indiana/Indianapolis:20260530T090000
DTEND;TZID=America/Indiana/Indianapolis:20260530T130000
DTSTAMP:20260425T101450
CREATED:20260423T231712Z
LAST-MODIFIED:20260423T231712Z
UID:8740-1780131600-1780146000@urbanknox.com
SUMMARY:Market Square Farmers Market
DESCRIPTION:Open-air\, producer-only farmers market managed by Nourish Knoxville and held every Wednesday and Saturday\, May through October in the heart of downtown Knoxville. 
URL:https://urbanknox.com/event/market-square-farmers-market-9/
LOCATION:Market Square
CATEGORIES:Special Event
END:VEVENT
BEGIN:VEVENT
DTSTART;TZID=America/Indiana/Indianapolis:20260530T100000
DTEND;TZID=America/Indiana/Indianapolis:20260530T170000
DTSTAMP:20260425T101450
CREATED:20260423T231712Z
LAST-MODIFIED:20260423T231712Z
UID:8742-1780135200-1780160400@urbanknox.com
SUMMARY:Knoxville's Largest Kids' Party
DESCRIPTION:A kickoff to summer for children and families in the community. The party will have bounce houses\, games\, live performances\, and a petting zoo. This event will benefit Childhelp Tennessee. 
URL:https://urbanknox.com/event/knoxvilles-largest-kids-party/
LOCATION:World’s Fair Park Performance Lawn
CATEGORIES:Special Event
END:VEVENT
BEGIN:VEVENT
DTSTART;TZID=America/Indiana/Indianapolis:20260530T120000
DTEND;TZID=America/Indiana/Indianapolis:20260530T200000
DTSTAMP:20260425T101450
CREATED:20260423T231712Z
LAST-MODIFIED:20260423T231712Z
UID:8739-1780142400-1780171200@urbanknox.com
SUMMARY:KnoxWalls Murals & Music Festival
DESCRIPTION:KnoxWalls is a free community festival that will bring together live mural painting\, live music\, food trucks\, and fun all in a celebration of Knoxville’s thriving arts scene and creative spirit. 
URL:https://urbanknox.com/event/knoxwalls-murals-music-festival/
LOCATION:Emory Place
CATEGORIES:Special Event
END:VEVENT
BEGIN:VEVENT
DTSTART;TZID=America/Indiana/Indianapolis:20260603T100000
DTEND;TZID=America/Indiana/Indianapolis:20260603T130000
DTSTAMP:20260425T101450
CREATED:20260423T231712Z
LAST-MODIFIED:20260423T231712Z
UID:8746-1780480800-1780491600@urbanknox.com
SUMMARY:Market Square Farmers Market
DESCRIPTION:Open-air\, producer-only farmers market managed by Nourish Knoxville and held every Wednesday and Saturday\, May through October in the heart of downtown Knoxville. 
URL:https://urbanknox.com/event/market-square-farmers-market-10/
LOCATION:Market Square
CATEGORIES:Special Event
END:VEVENT
BEGIN:VEVENT
DTSTART;TZID=America/Indiana/Indianapolis:20260606T060000
DTEND;TZID=America/Indiana/Indianapolis:20260606T113000
DTSTAMP:20260425T101450
CREATED:20260423T231712Z
LAST-MODIFIED:20260423T231712Z
UID:8760-1780725600-1780745400@urbanknox.com
SUMMARY:Sharps Ridge Rambler
DESCRIPTION:Trail race through the woods of Sharps Ridge Memorial Park. Either a 4 or 6 mile event. Put on by Knoxville Track Club.
URL:https://urbanknox.com/event/sharps-ridge-rambler/
LOCATION:Sharps Ridge Memorial Park
CATEGORIES:Special Event
END:VEVENT
BEGIN:VEVENT
DTSTART;TZID=America/Indiana/Indianapolis:20260606T060000
DTEND;TZID=America/Indiana/Indianapolis:20260606T120000
DTSTAMP:20260425T101451
CREATED:20260423T231712Z
LAST-MODIFIED:20260423T231712Z
UID:8758-1780725600-1780747200@urbanknox.com
SUMMARY:Race for Grace
DESCRIPTION:Annual run to raise money for the Saving Grace Women’s Home. 
URL:https://urbanknox.com/event/race-for-grace-2/
LOCATION:Victor Ashe Park
CATEGORIES:Special Event
END:VEVENT
BEGIN:VEVENT
DTSTART;TZID=America/Indiana/Indianapolis:20260606T080000
DTEND;TZID=America/Indiana/Indianapolis:20260606T113000
DTSTAMP:20260425T101451
CREATED:20260423T231712Z
LAST-MODIFIED:20260423T231712Z
UID:8754-1780732800-1780745400@urbanknox.com
SUMMARY:US Road Running
DESCRIPTION:Family friendly race that consists of a 5K\, 10K and half marathon inside the park.
URL:https://urbanknox.com/event/us-road-running-2/
LOCATION:Holston River Park
CATEGORIES:Special Event
END:VEVENT
BEGIN:VEVENT
DTSTART;TZID=America/Indiana/Indianapolis:20260606T090000
DTEND;TZID=America/Indiana/Indianapolis:20260606T130000
DTSTAMP:20260425T101451
CREATED:20260423T231712Z
LAST-MODIFIED:20260423T231712Z
UID:8757-1780736400-1780750800@urbanknox.com
SUMMARY:Market Square Farmers Market
DESCRIPTION:Open-air\, producer-only farmers market managed by Nourish Knoxville and held every Wednesday and Saturday\, May through October in the heart of downtown Knoxville. 
URL:https://urbanknox.com/event/market-square-farmers-market-11/
LOCATION:Market Square
CATEGORIES:Special Event
END:VEVENT
BEGIN:VEVENT
DTSTART;TZID=America/Indiana/Indianapolis:20260606T090000
DTEND;TZID=America/Indiana/Indianapolis:20260606T210000
DTSTAMP:20260425T101451
CREATED:20260423T231712Z
LAST-MODIFIED:20260423T231712Z
UID:8756-1780736400-1780779600@urbanknox.com
SUMMARY:Rhinestone Fest
DESCRIPTION:Returning for it’s 6th year\, the Rhinestone Fest\, “For the Love of Dolly!” Will have live music and performances as well as Dolly Parton themed everything!
URL:https://urbanknox.com/event/rhinestone-fest/
LOCATION:Old City
CATEGORIES:Special Event
END:VEVENT
BEGIN:VEVENT
DTSTART;TZID=America/Indiana/Indianapolis:20260606T100000
DTEND;TZID=America/Indiana/Indianapolis:20260606T160000
DTSTAMP:20260425T101451
CREATED:20260423T231712Z
LAST-MODIFIED:20260423T231712Z
UID:8748-1780740000-1780761600@urbanknox.com
SUMMARY:CREATive CommUNITY Cultural Arts
DESCRIPTION:Annual youth fishing day. Free event to teach children how to fish. 
URL:https://urbanknox.com/event/creative-community-cultural-arts/
LOCATION:Victor Ashe Park
CATEGORIES:Special Event
END:VEVENT
BEGIN:VEVENT
DTSTART;TZID=America/Indiana/Indianapolis:20260606T100000
DTEND;TZID=America/Indiana/Indianapolis:20260606T190000
DTSTAMP:20260425T101451
CREATED:20260423T231712Z
LAST-MODIFIED:20260423T231712Z
UID:8752-1780740000-1780772400@urbanknox.com
SUMMARY:Black Beauty Expo
DESCRIPTION:Family friendly event with craft vendors and activities
URL:https://urbanknox.com/event/black-beauty-expo/
LOCATION:Dr. Walter Hardy Park
CATEGORIES:Special Event
END:VEVENT
BEGIN:VEVENT
DTSTART;TZID=America/Indiana/Indianapolis:20260606T110000
DTEND;TZID=America/Indiana/Indianapolis:20260606T180000
DTSTAMP:20260425T101451
CREATED:20260423T231712Z
LAST-MODIFIED:20260423T231712Z
UID:8750-1780743600-1780768800@urbanknox.com
SUMMARY:Here's the Scoop Ice Cream Fest
DESCRIPTION:
URL:https://urbanknox.com/event/heres-the-scoop-ice-cream-fest/
LOCATION:World’s Fair Park
CATEGORIES:Special Event
END:VEVENT
BEGIN:VEVENT
DTSTART;TZID=America/Indiana/Indianapolis:20260606T160000
DTEND;TZID=America/Indiana/Indianapolis:20260606T230000
DTSTAMP:20260425T101451
CREATED:20260423T231712Z
LAST-MODIFIED:20260423T231712Z
UID:8762-1780761600-1780786800@urbanknox.com
SUMMARY:Bijou Jubilee
DESCRIPTION:Annual fundraising event for the Bijou Theater. This event is a festival style celebration expanding from the theater to Gay St.\, featuring live music on indoor and outdoor stages\, food and beverage service\, and a silent auction. 
URL:https://urbanknox.com/event/bijou-jubilee/
LOCATION:Bijou Theater & Gay Street
CATEGORIES:Special Event
END:VEVENT
BEGIN:VEVENT
DTSTART;TZID=America/Indiana/Indianapolis:20260610T100000
DTEND;TZID=America/Indiana/Indianapolis:20260610T130000
DTSTAMP:20260425T101451
CREATED:20260423T231713Z
LAST-MODIFIED:20260423T231713Z
UID:8765-1781085600-1781096400@urbanknox.com
SUMMARY:Market Square Farmers Market
DESCRIPTION:Open-air\, producer-only farmers market managed by Nourish Knoxville and held every Wednesday and Saturday\, May through October in the heart of downtown Knoxville. 
URL:https://urbanknox.com/event/market-square-farmers-market-12/
LOCATION:Market Square
CATEGORIES:Special Event
END:VEVENT
BEGIN:VEVENT
DTSTART;TZID=America/Indiana/Indianapolis:20260613T070000
DTEND;TZID=America/Indiana/Indianapolis:20260613T130000
DTSTAMP:20260425T101451
CREATED:20260423T231713Z
LAST-MODIFIED:20260423T231713Z
UID:8774-1781334000-1781355600@urbanknox.com
SUMMARY:Tristar Triathlons + Duathlons
DESCRIPTION:Swimming\, biking and running through the park and East Knoxville
URL:https://urbanknox.com/event/tristar-triathlons-duathlons/
LOCATION:Ned McWherter Park
CATEGORIES:Special Event
END:VEVENT
BEGIN:VEVENT
DTSTART;TZID=America/Indiana/Indianapolis:20260613T090000
DTEND;TZID=America/Indiana/Indianapolis:20260613T130000
DTSTAMP:20260425T101451
CREATED:20260423T231713Z
LAST-MODIFIED:20260423T231713Z
UID:8775-1781341200-1781355600@urbanknox.com
SUMMARY:Market Square Farmers Market
DESCRIPTION:Open-air\, producer-only farmers market managed by Nourish Knoxville and held every Wednesday and Saturday\, May through October in the heart of downtown Knoxville. 
URL:https://urbanknox.com/event/market-square-farmers-market-13/
LOCATION:Market Square
CATEGORIES:Special Event
END:VEVENT
BEGIN:VEVENT
DTSTART;TZID=America/Indiana/Indianapolis:20260613T120000
DTEND;TZID=America/Indiana/Indianapolis:20260613T180000
DTSTAMP:20260425T101451
CREATED:20260423T231713Z
LAST-MODIFIED:20260423T231713Z
UID:8777-1781352000-1781373600@urbanknox.com
SUMMARY:Knox Social Club Summer Book Fair
DESCRIPTION:Market event with vendor tents set up around Emory Place
URL:https://urbanknox.com/event/knox-social-club-summer-book-fair/
LOCATION:Emory Place
CATEGORIES:Special Event
END:VEVENT
BEGIN:VEVENT
DTSTART;TZID=America/Indiana/Indianapolis:20260617T100000
DTEND;TZID=America/Indiana/Indianapolis:20260617T130000
DTSTAMP:20260425T101451
CREATED:20260423T231713Z
LAST-MODIFIED:20260423T231713Z
UID:8780-1781690400-1781701200@urbanknox.com
SUMMARY:Market Square Farmers Market
DESCRIPTION:Open-air\, producer-only farmers market managed by Nourish Knoxville and held every Wednesday and Saturday\, May through October in the heart of downtown Knoxville. 
URL:https://urbanknox.com/event/market-square-farmers-market-14/
LOCATION:Market Square
CATEGORIES:Special Event
END:VEVENT
BEGIN:VEVENT
DTSTART;TZID=America/Indiana/Indianapolis:20260619T083000
DTEND;TZID=America/Indiana/Indianapolis:20260619T170000
DTSTAMP:20260425T101451
CREATED:20260423T231713Z
LAST-MODIFIED:20260423T231713Z
UID:8787-1781857800-1781888400@urbanknox.com
SUMMARY:Dr. Martin Luther King Jr. Parade\, March & Celebration
DESCRIPTION:8:30am – Parade Line Up at Chilhowee Park\n10:00am – Parade Step Off\n11:00am – Parade Finishes at Dr. Walter Hardy \n11:00am-5:00pm – Celebration at Park
URL:https://urbanknox.com/event/dr-martin-luther-king-jr-parade-march-celebration/
LOCATION:Chilhowee Park\, MLK Dr.\, Dr. Walter Hardy
CATEGORIES:Special Event
END:VEVENT
BEGIN:VEVENT
DTSTART;TZID=America/Indiana/Indianapolis:20260620T090000
DTEND;TZID=America/Indiana/Indianapolis:20260620T130000
DTSTAMP:20260425T101451
CREATED:20260423T231713Z
LAST-MODIFIED:20260423T231713Z
UID:8788-1781946000-1781960400@urbanknox.com
SUMMARY:Market Square Farmers Market
DESCRIPTION:Open-air\, producer-only farmers market managed by Nourish Knoxville and held every Wednesday and Saturday\, May through October in the heart of downtown Knoxville. 
URL:https://urbanknox.com/event/market-square-farmers-market-15/
LOCATION:Market Square
CATEGORIES:Special Event
END:VEVENT
BEGIN:VEVENT
DTSTART;TZID=America/Indiana/Indianapolis:20260620T153000
DTEND;TZID=America/Indiana/Indianapolis:20260620T203000
DTSTAMP:20260425T101451
CREATED:20260423T231713Z
LAST-MODIFIED:20260423T231713Z
UID:8789-1781969400-1781987400@urbanknox.com
SUMMARY:Knoxville Brewfest
DESCRIPTION:Craft beer sampling fundraising event for CureDuchenne Muscular Dystrophy Research.
URL:https://urbanknox.com/event/knoxville-brewfest/
LOCATION:World’s Fair Park Performance Lawn
CATEGORIES:Special Event
END:VEVENT
BEGIN:VEVENT
DTSTART;TZID=America/Indiana/Indianapolis:20260621T063000
DTEND;TZID=America/Indiana/Indianapolis:20260621T093000
DTSTAMP:20260425T101451
CREATED:20260423T231713Z
LAST-MODIFIED:20260423T231713Z
UID:8791-1782023400-1782034200@urbanknox.com
SUMMARY:Marble City 5K
DESCRIPTION:Charity race to raise money for Keep Knoxville Beautiful while displaying the Marble City community
URL:https://urbanknox.com/event/marble-city-5k/
LOCATION:John Tarleton Park
CATEGORIES:Special Event
END:VEVENT
END:VCALENDAR