BEGIN:VCALENDAR
VERSION:2.0
PRODID:-//UrbanKnox.com - ECPv6.15.20//NONSGML v1.0//EN
CALSCALE:GREGORIAN
METHOD:PUBLISH
X-WR-CALNAME:UrbanKnox.com
X-ORIGINAL-URL:https://urbanknox.com
X-WR-CALDESC:Events for UrbanKnox.com
REFRESH-INTERVAL;VALUE=DURATION:PT1H
X-Robots-Tag:noindex
X-PUBLISHED-TTL:PT1H
BEGIN:VTIMEZONE
TZID:America/Indiana/Indianapolis
BEGIN:DAYLIGHT
TZOFFSETFROM:-0500
TZOFFSETTO:-0400
TZNAME:EDT
DTSTART:20250309T070000
END:DAYLIGHT
BEGIN:STANDARD
TZOFFSETFROM:-0400
TZOFFSETTO:-0500
TZNAME:EST
DTSTART:20251102T060000
END:STANDARD
BEGIN:DAYLIGHT
TZOFFSETFROM:-0500
TZOFFSETTO:-0400
TZNAME:EDT
DTSTART:20260308T070000
END:DAYLIGHT
BEGIN:STANDARD
TZOFFSETFROM:-0400
TZOFFSETTO:-0500
TZNAME:EST
DTSTART:20261101T060000
END:STANDARD
BEGIN:DAYLIGHT
TZOFFSETFROM:-0500
TZOFFSETTO:-0400
TZNAME:EDT
DTSTART:20270314T070000
END:DAYLIGHT
BEGIN:STANDARD
TZOFFSETFROM:-0400
TZOFFSETTO:-0500
TZNAME:EST
DTSTART:20271107T060000
END:STANDARD
END:VTIMEZONE
BEGIN:VEVENT
DTSTART;TZID=America/Indiana/Indianapolis:20260627T090000
DTEND;TZID=America/Indiana/Indianapolis:20260628T230000
DTSTAMP:20260425T102347
CREATED:20260423T231714Z
LAST-MODIFIED:20260423T231714Z
UID:8802-1782550800-1782687600@urbanknox.com
SUMMARY:Field Days
DESCRIPTION:Public event to explain how amateur radio works to the local community. 
URL:https://urbanknox.com/event/field-days/
LOCATION:Fort Dickerson
CATEGORIES:Special Event
END:VEVENT
BEGIN:VEVENT
DTSTART;TZID=America/Indiana/Indianapolis:20260701T100000
DTEND;TZID=America/Indiana/Indianapolis:20260701T130000
DTSTAMP:20260425T102347
CREATED:20260423T231714Z
LAST-MODIFIED:20260423T231714Z
UID:8804-1782900000-1782910800@urbanknox.com
SUMMARY:Market Square Farmers Market
DESCRIPTION:Open-air\, producer-only farmers market managed by Nourish Knoxville and held every Wednesday and Saturday\, May through October in the heart of downtown Knoxville. 
URL:https://urbanknox.com/event/market-square-farmers-market-18/
LOCATION:Market Square
CATEGORIES:Special Event
END:VEVENT
BEGIN:VEVENT
DTSTART;TZID=America/Indiana/Indianapolis:20260703T180000
DTEND;TZID=America/Indiana/Indianapolis:20260703T220000
DTSTAMP:20260425T102347
CREATED:20260423T231714Z
LAST-MODIFIED:20260423T231714Z
UID:8808-1783101600-1783116000@urbanknox.com
SUMMARY:Fireball Classic 5K + Kids Mile
DESCRIPTION:This race is a kick off event for your 4th of July festivities. Runners will start in the east bound lane of Neyland Dr\, in front of the G-10 parking lot\, and run out before returning in the west bound lane\, finishing in the shadow of Neyland Stadium.
URL:https://urbanknox.com/event/fireball-classic-5k-kids-mile/
LOCATION:1500 Philip Fulmer Way
CATEGORIES:Special Event
END:VEVENT
BEGIN:VEVENT
DTSTART;TZID=America/Indiana/Indianapolis:20260704T080000
DTEND;TZID=America/Indiana/Indianapolis:20260704T113000
DTSTAMP:20260425T102347
CREATED:20260423T231714Z
LAST-MODIFIED:20260423T231714Z
UID:8809-1783152000-1783164600@urbanknox.com
SUMMARY:US Road Running
DESCRIPTION:Family Friendly local race which consists of a 5K\, 10K and a half marathon.
URL:https://urbanknox.com/event/us-road-running-3/
LOCATION:Holston River Park
CATEGORIES:Special Event
END:VEVENT
BEGIN:VEVENT
DTSTART;TZID=America/Indiana/Indianapolis:20260704T090000
DTEND;TZID=America/Indiana/Indianapolis:20260704T130000
DTSTAMP:20260425T102347
CREATED:20260423T231714Z
LAST-MODIFIED:20260423T231714Z
UID:8810-1783155600-1783170000@urbanknox.com
SUMMARY:Market Square Farmers Market
DESCRIPTION:Open-air\, producer-only farmers market managed by Nourish Knoxville and held every Wednesday and Saturday\, May through October in the heart of downtown Knoxville. 
URL:https://urbanknox.com/event/market-square-farmers-market-19/
LOCATION:Market Square
CATEGORIES:Special Event
END:VEVENT
BEGIN:VEVENT
DTSTART;TZID=America/Indiana/Indianapolis:20260704T170000
DTEND;TZID=America/Indiana/Indianapolis:20260704T220000
DTSTAMP:20260425T102347
CREATED:20260423T231714Z
LAST-MODIFIED:20260423T231714Z
UID:8812-1783184400-1783202400@urbanknox.com
SUMMARY:Festival on the Fourth
DESCRIPTION:Celebrate the 250th anniversary of America with the City of Knoxville!
URL:https://urbanknox.com/event/festival-on-the-fourth/
LOCATION:World’s Fair Park
CATEGORIES:Special Event
END:VEVENT
END:VCALENDAR