BEGIN:VCALENDAR
VERSION:2.0
PRODID:-//UrbanKnox.com - ECPv6.15.20//NONSGML v1.0//EN
CALSCALE:GREGORIAN
METHOD:PUBLISH
X-WR-CALNAME:UrbanKnox.com
X-ORIGINAL-URL:https://urbanknox.com
X-WR-CALDESC:Events for UrbanKnox.com
REFRESH-INTERVAL;VALUE=DURATION:PT1H
X-Robots-Tag:noindex
X-PUBLISHED-TTL:PT1H
BEGIN:VTIMEZONE
TZID:America/Indiana/Indianapolis
BEGIN:DAYLIGHT
TZOFFSETFROM:-0500
TZOFFSETTO:-0400
TZNAME:EDT
DTSTART:20250309T070000
END:DAYLIGHT
BEGIN:STANDARD
TZOFFSETFROM:-0400
TZOFFSETTO:-0500
TZNAME:EST
DTSTART:20251102T060000
END:STANDARD
BEGIN:DAYLIGHT
TZOFFSETFROM:-0500
TZOFFSETTO:-0400
TZNAME:EDT
DTSTART:20260308T070000
END:DAYLIGHT
BEGIN:STANDARD
TZOFFSETFROM:-0400
TZOFFSETTO:-0500
TZNAME:EST
DTSTART:20261101T060000
END:STANDARD
BEGIN:DAYLIGHT
TZOFFSETFROM:-0500
TZOFFSETTO:-0400
TZNAME:EDT
DTSTART:20270314T070000
END:DAYLIGHT
BEGIN:STANDARD
TZOFFSETFROM:-0400
TZOFFSETTO:-0500
TZNAME:EST
DTSTART:20271107T060000
END:STANDARD
END:VTIMEZONE
BEGIN:VEVENT
DTSTART;TZID=America/Indiana/Indianapolis:20260530T070000
DTEND;TZID=America/Indiana/Indianapolis:20260530T190000
DTSTAMP:20260424T191533
CREATED:20260423T231712Z
LAST-MODIFIED:20260423T231712Z
UID:8743-1780124400-1780167600@urbanknox.com
SUMMARY:BAPS Charities Walk/Run
DESCRIPTION:Annual event to encourage healthier lifestyles among the community. 
URL:https://urbanknox.com/event/baps-charities-walk-run/
LOCATION:Victor Ashe Park
CATEGORIES:Special Event
END:VEVENT
BEGIN:VEVENT
DTSTART;TZID=America/Indiana/Indianapolis:20260530T090000
DTEND;TZID=America/Indiana/Indianapolis:20260530T130000
DTSTAMP:20260424T191533
CREATED:20260423T231712Z
LAST-MODIFIED:20260423T231712Z
UID:8740-1780131600-1780146000@urbanknox.com
SUMMARY:Market Square Farmers Market
DESCRIPTION:Open-air\, producer-only farmers market managed by Nourish Knoxville and held every Wednesday and Saturday\, May through October in the heart of downtown Knoxville. 
URL:https://urbanknox.com/event/market-square-farmers-market-9/
LOCATION:Market Square
CATEGORIES:Special Event
END:VEVENT
BEGIN:VEVENT
DTSTART;TZID=America/Indiana/Indianapolis:20260530T100000
DTEND;TZID=America/Indiana/Indianapolis:20260530T170000
DTSTAMP:20260424T191533
CREATED:20260423T231712Z
LAST-MODIFIED:20260423T231712Z
UID:8742-1780135200-1780160400@urbanknox.com
SUMMARY:Knoxville's Largest Kids' Party
DESCRIPTION:A kickoff to summer for children and families in the community. The party will have bounce houses\, games\, live performances\, and a petting zoo. This event will benefit Childhelp Tennessee. 
URL:https://urbanknox.com/event/knoxvilles-largest-kids-party/
LOCATION:World’s Fair Park Performance Lawn
CATEGORIES:Special Event
END:VEVENT
BEGIN:VEVENT
DTSTART;TZID=America/Indiana/Indianapolis:20260530T120000
DTEND;TZID=America/Indiana/Indianapolis:20260530T200000
DTSTAMP:20260424T191533
CREATED:20260423T231712Z
LAST-MODIFIED:20260423T231712Z
UID:8739-1780142400-1780171200@urbanknox.com
SUMMARY:KnoxWalls Murals & Music Festival
DESCRIPTION:KnoxWalls is a free community festival that will bring together live mural painting\, live music\, food trucks\, and fun all in a celebration of Knoxville’s thriving arts scene and creative spirit. 
URL:https://urbanknox.com/event/knoxwalls-murals-music-festival/
LOCATION:Emory Place
CATEGORIES:Special Event
END:VEVENT
END:VCALENDAR