BEGIN:VCALENDAR
VERSION:2.0
PRODID:-//UrbanKnox.com - ECPv6.15.20//NONSGML v1.0//EN
CALSCALE:GREGORIAN
METHOD:PUBLISH
X-WR-CALNAME:UrbanKnox.com
X-ORIGINAL-URL:https://urbanknox.com
X-WR-CALDESC:Events for UrbanKnox.com
REFRESH-INTERVAL;VALUE=DURATION:PT1H
X-Robots-Tag:noindex
X-PUBLISHED-TTL:PT1H
BEGIN:VTIMEZONE
TZID:America/Indiana/Indianapolis
BEGIN:DAYLIGHT
TZOFFSETFROM:-0500
TZOFFSETTO:-0400
TZNAME:EDT
DTSTART:20250309T070000
END:DAYLIGHT
BEGIN:STANDARD
TZOFFSETFROM:-0400
TZOFFSETTO:-0500
TZNAME:EST
DTSTART:20251102T060000
END:STANDARD
BEGIN:DAYLIGHT
TZOFFSETFROM:-0500
TZOFFSETTO:-0400
TZNAME:EDT
DTSTART:20260308T070000
END:DAYLIGHT
BEGIN:STANDARD
TZOFFSETFROM:-0400
TZOFFSETTO:-0500
TZNAME:EST
DTSTART:20261101T060000
END:STANDARD
BEGIN:DAYLIGHT
TZOFFSETFROM:-0500
TZOFFSETTO:-0400
TZNAME:EDT
DTSTART:20270314T070000
END:DAYLIGHT
BEGIN:STANDARD
TZOFFSETFROM:-0400
TZOFFSETTO:-0500
TZNAME:EST
DTSTART:20271107T060000
END:STANDARD
END:VTIMEZONE
BEGIN:VEVENT
DTSTART;TZID=America/Indiana/Indianapolis:20260501T180000
DTEND;TZID=America/Indiana/Indianapolis:20260501T210000
DTSTAMP:20260425T084958
CREATED:20260423T231709Z
LAST-MODIFIED:20260423T231709Z
UID:8667-1777658400-1777669200@urbanknox.com
SUMMARY:Outlandish Fest
DESCRIPTION:Kick off the start of Outlandish Fest at Ijams Nature Center! There will be food trucks\, live music and a beer garden. Event will conclude for the day  with a full moon hike with Ijams Naturalists. 
URL:https://urbanknox.com/event/outlandish-fest/
LOCATION:Mead’s Quarry and Ijams
CATEGORIES:Special Event
END:VEVENT
BEGIN:VEVENT
DTSTART;TZID=America/Indiana/Indianapolis:20260502T080000
DTEND;TZID=America/Indiana/Indianapolis:20260502T113000
DTSTAMP:20260425T084958
CREATED:20260423T231710Z
LAST-MODIFIED:20260423T231710Z
UID:8671-1777708800-1777721400@urbanknox.com
SUMMARY:US Road Running
DESCRIPTION:Family friendly race that consists of a 5K\, 10K and half marathon inside the park.
URL:https://urbanknox.com/event/us-road-running/
LOCATION:Holston River Park
CATEGORIES:Special Event
END:VEVENT
BEGIN:VEVENT
DTSTART;TZID=America/Indiana/Indianapolis:20260502T080000
DTEND;TZID=America/Indiana/Indianapolis:20260502T120000
DTSTAMP:20260425T084958
CREATED:20260423T231710Z
LAST-MODIFIED:20260423T231710Z
UID:8669-1777708800-1777723200@urbanknox.com
SUMMARY:East Tennessee Great Strides
DESCRIPTION:Annual celebration that includes a short walk around the park in honor of the Cystic Fibrosis community. 
URL:https://urbanknox.com/event/east-tennessee-great-strides/
LOCATION:Victor Ashe Park
CATEGORIES:Special Event
END:VEVENT
BEGIN:VEVENT
DTSTART;TZID=America/Indiana/Indianapolis:20260502T083000
DTEND;TZID=America/Indiana/Indianapolis:20260502T210000
DTSTAMP:20260425T084958
CREATED:20260423T231710Z
LAST-MODIFIED:20260423T231710Z
UID:8673-1777710600-1777755600@urbanknox.com
SUMMARY:Outlandish Fest
DESCRIPTION:Day 2 of Outlandish Fest consists of a day full of yoga\, dance parties\, paddle boarding\, and many more exciting activities! Enjoy a day full of nature and music!
URL:https://urbanknox.com/event/outlandish-fest-2/
LOCATION:Mead’s Quarry and Ijams
CATEGORIES:Special Event
END:VEVENT
BEGIN:VEVENT
DTSTART;TZID=America/Indiana/Indianapolis:20260502T090000
DTEND;TZID=America/Indiana/Indianapolis:20260502T130000
DTSTAMP:20260425T084958
CREATED:20260423T231710Z
LAST-MODIFIED:20260423T231710Z
UID:8675-1777712400-1777726800@urbanknox.com
SUMMARY:Market Square Farmers Market
DESCRIPTION:Open-air\, producer-only farmers market managed by Nourish Knoxville and held every Wednesday and Saturday\, May through October in the heart of downtown Knoxville. 
URL:https://urbanknox.com/event/market-square-farmers-market/
LOCATION:Market Square
CATEGORIES:Special Event
END:VEVENT
BEGIN:VEVENT
DTSTART;TZID=America/Indiana/Indianapolis:20260502T100000
DTEND;TZID=America/Indiana/Indianapolis:20260502T140000
DTSTAMP:20260425T084958
CREATED:20260423T231710Z
LAST-MODIFIED:20260423T231710Z
UID:8677-1777716000-1777730400@urbanknox.com
SUMMARY:Wild Ones Smoky Mountains Chapter Plant Sale
DESCRIPTION:Native plant sale fundraiser to raise money for the Wild Ones Smoky Mountains Chapter. 
URL:https://urbanknox.com/event/wild-ones-smoky-mountains-chapter-plant-sale/
LOCATION:Suttree Landing
CATEGORIES:Special Event
END:VEVENT
BEGIN:VEVENT
DTSTART;TZID=America/Indiana/Indianapolis:20260503T120000
DTEND;TZID=America/Indiana/Indianapolis:20260503T200000
DTSTAMP:20260425T084958
CREATED:20260423T231710Z
LAST-MODIFIED:20260423T231710Z
UID:8679-1777809600-1777838400@urbanknox.com
SUMMARY:ArabFest
DESCRIPTION:Arabic Heritage Festival showcasing the Arabic culture\, music\, food\, fashion\, dancing\, and more.
URL:https://urbanknox.com/event/arabfest/
LOCATION:Market Square
CATEGORIES:Special Event
END:VEVENT
BEGIN:VEVENT
DTSTART;TZID=America/Indiana/Indianapolis:20260506T100000
DTEND;TZID=America/Indiana/Indianapolis:20260506T130000
DTSTAMP:20260425T084958
CREATED:20260423T231710Z
LAST-MODIFIED:20260423T231710Z
UID:8680-1778061600-1778072400@urbanknox.com
SUMMARY:Market Square Farmers Market
DESCRIPTION:Open-air\, producer-only farmers market managed by Nourish Knoxville and held every Wednesday and Saturday\, May through October in the heart of downtown Knoxville. 
URL:https://urbanknox.com/event/market-square-farmers-market-2/
LOCATION:Market Square
CATEGORIES:Special Event
END:VEVENT
BEGIN:VEVENT
DTSTART;TZID=America/Indiana/Indianapolis:20260509T073000
DTEND;TZID=America/Indiana/Indianapolis:20260509T110000
DTSTAMP:20260425T084958
CREATED:20260423T231710Z
LAST-MODIFIED:20260423T231710Z
UID:8684-1778311800-1778324400@urbanknox.com
SUMMARY:Girls on the Run - Spring 5K
DESCRIPTION:Non-competitive community run/walk celebrating the girls on the run season.
URL:https://urbanknox.com/event/girls-on-the-run-spring-5k/
LOCATION:Victor Ashe Park
CATEGORIES:Special Event
END:VEVENT
BEGIN:VEVENT
DTSTART;TZID=America/Indiana/Indianapolis:20260509T090000
DTEND;TZID=America/Indiana/Indianapolis:20260509T130000
DTSTAMP:20260425T084958
CREATED:20260423T231710Z
LAST-MODIFIED:20260423T231710Z
UID:8685-1778317200-1778331600@urbanknox.com
SUMMARY:Market Square Farmers Market
DESCRIPTION:Open-air\, producer-only farmers market managed by Nourish Knoxville and held every Wednesday and Saturday\, May through October in the heart of downtown Knoxville. 
URL:https://urbanknox.com/event/market-square-farmers-market-3/
LOCATION:Market Square
CATEGORIES:Special Event
END:VEVENT
BEGIN:VEVENT
DTSTART;TZID=America/Indiana/Indianapolis:20260509T100000
DTEND;TZID=America/Indiana/Indianapolis:20260509T220000
DTSTAMP:20260425T084958
CREATED:20260423T231710Z
LAST-MODIFIED:20260423T231710Z
UID:8687-1778320800-1778364000@urbanknox.com
SUMMARY:Holleroo
DESCRIPTION:Soap Box Derby with a concert to close out the event.
URL:https://urbanknox.com/event/holleroo/
LOCATION:Happy Holler (Central from Scott – Baxter)
CATEGORIES:Special Event
END:VEVENT
BEGIN:VEVENT
DTSTART;TZID=America/Indiana/Indianapolis:20260509T203000
DTEND;TZID=America/Indiana/Indianapolis:20260509T233000
DTSTAMP:20260425T084958
CREATED:20260423T231710Z
LAST-MODIFIED:20260423T231710Z
UID:8689-1778358600-1778369400@urbanknox.com
SUMMARY:Hann Jivin' in the Dark
DESCRIPTION:Late night 6 mile trail run starting at Anderson School Head State and running on the Lost Chromosome Trail\, turning into the Helix Trail System and looping back to the start. 
URL:https://urbanknox.com/event/hann-jivin-in-the-dark/
LOCATION:Urban Wilderness Gateway Park
CATEGORIES:Special Event
END:VEVENT
BEGIN:VEVENT
DTSTART;TZID=America/Indiana/Indianapolis:20260513T100000
DTEND;TZID=America/Indiana/Indianapolis:20260513T130000
DTSTAMP:20260425T084958
CREATED:20260423T231710Z
LAST-MODIFIED:20260423T231710Z
UID:8692-1778666400-1778677200@urbanknox.com
SUMMARY:Market Square Farmers Market
DESCRIPTION:Open-air\, producer-only farmers market managed by Nourish Knoxville and held every Wednesday and Saturday\, May through October in the heart of downtown Knoxville. 
URL:https://urbanknox.com/event/market-square-farmers-market-4/
LOCATION:Market Square
CATEGORIES:Special Event
END:VEVENT
BEGIN:VEVENT
DTSTART;TZID=America/Indiana/Indianapolis:20260516T073000
DTEND;TZID=America/Indiana/Indianapolis:20260516T130000
DTSTAMP:20260425T084958
CREATED:20260423T231710Z
LAST-MODIFIED:20260423T231710Z
UID:8703-1778916600-1778936400@urbanknox.com
SUMMARY:Tillery's Hustle for Hope 5K
DESCRIPTION:Family friendly charity event to raise money for the Lighthouse Family Retreat whose goal is to raise money to send families facing childhood cancer on beach retreats. 
URL:https://urbanknox.com/event/tillerys-hustle-for-hope-5k/
LOCATION:Victor Ashe Park
CATEGORIES:Special Event
END:VEVENT
BEGIN:VEVENT
DTSTART;TZID=America/Indiana/Indianapolis:20260516T090000
DTEND;TZID=America/Indiana/Indianapolis:20260516T130000
DTSTAMP:20260425T084958
CREATED:20260423T231710Z
LAST-MODIFIED:20260423T231710Z
UID:8704-1778922000-1778936400@urbanknox.com
SUMMARY:Market Square Farmers Market
DESCRIPTION:Open-air\, producer-only farmers market managed by Nourish Knoxville and held every Wednesday and Saturday\, May through October in the heart of downtown Knoxville. 
URL:https://urbanknox.com/event/market-square-farmers-market-5/
LOCATION:Market Square
CATEGORIES:Special Event
END:VEVENT
BEGIN:VEVENT
DTSTART;TZID=America/Indiana/Indianapolis:20260516T100000
DTEND;TZID=America/Indiana/Indianapolis:20260516T160000
DTSTAMP:20260425T084958
CREATED:20260423T231711Z
LAST-MODIFIED:20260423T231711Z
UID:8706-1778925600-1778947200@urbanknox.com
SUMMARY:20th Children's Festival of Reading
DESCRIPTION:The Knox County Public Library is continuing the tradition of bringing authors\, illustrators and musicians to the families of East Tennessee. 
URL:https://urbanknox.com/event/20th-childrens-festival-of-reading/
LOCATION:World’s Fair Park Festival Lawn
CATEGORIES:Special Event
END:VEVENT
BEGIN:VEVENT
DTSTART;TZID=America/Indiana/Indianapolis:20260517T110000
DTEND;TZID=America/Indiana/Indianapolis:20260517T160000
DTSTAMP:20260425T084958
CREATED:20260423T231711Z
LAST-MODIFIED:20260423T231711Z
UID:8712-1779015600-1779033600@urbanknox.com
SUMMARY:Old City Market
DESCRIPTION:Local artist street market hosted by the Old City Association.
URL:https://urbanknox.com/event/old-city-market/
LOCATION:100 Block of W Jackson
CATEGORIES:Special Event
END:VEVENT
BEGIN:VEVENT
DTSTART;TZID=America/Indiana/Indianapolis:20260517T140000
DTEND;TZID=America/Indiana/Indianapolis:20260517T180000
DTSTAMP:20260425T084958
CREATED:20260423T231711Z
LAST-MODIFIED:20260423T231711Z
UID:8708-1779026400-1779040800@urbanknox.com
SUMMARY:Open Streets
DESCRIPTION:Free community event that detours vehicles from urban streets to connect community members with local businesses and organizations. 
URL:https://urbanknox.com/event/open-streets/
LOCATION:Gay Street
CATEGORIES:Special Event
END:VEVENT
BEGIN:VEVENT
DTSTART;TZID=America/Indiana/Indianapolis:20260517T140000
DTEND;TZID=America/Indiana/Indianapolis:20260517T180000
DTSTAMP:20260425T084958
CREATED:20260423T231711Z
LAST-MODIFIED:20260423T231711Z
UID:8710-1779026400-1779040800@urbanknox.com
SUMMARY:Cattywampus Parade + Block Party
DESCRIPTION:The Cattywampus Puppet Council will be holding a procession at the River Walk Greenway. It will be followed by a festival with small stage and activity booths. 
URL:https://urbanknox.com/event/cattywampus-parade-block-party/
LOCATION:Suttree Landing Park
CATEGORIES:Special Event
END:VEVENT
BEGIN:VEVENT
DTSTART;TZID=America/Indiana/Indianapolis:20260520T100000
DTEND;TZID=America/Indiana/Indianapolis:20260520T130000
DTSTAMP:20260425T084958
CREATED:20260423T231711Z
LAST-MODIFIED:20260423T231711Z
UID:8715-1779271200-1779282000@urbanknox.com
SUMMARY:Market Square Farmers Market
DESCRIPTION:Open-air\, producer-only farmers market managed by Nourish Knoxville and held every Wednesday and Saturday\, May through October in the heart of downtown Knoxville. 
URL:https://urbanknox.com/event/market-square-farmers-market-6/
LOCATION:Market Square
CATEGORIES:Special Event
END:VEVENT
BEGIN:VEVENT
DTSTART;TZID=America/Indiana/Indianapolis:20260523T070000
DTEND;TZID=America/Indiana/Indianapolis:20260523T120000
DTSTAMP:20260425T084958
CREATED:20260423T231711Z
LAST-MODIFIED:20260423T231711Z
UID:8721-1779519600-1779537600@urbanknox.com
SUMMARY:Race for Grace
DESCRIPTION:Charity 5K to raise money for Saving Grace Women’s Home. 
URL:https://urbanknox.com/event/race-for-grace/
LOCATION:Victor Ashe Park
CATEGORIES:Special Event
END:VEVENT
BEGIN:VEVENT
DTSTART;TZID=America/Indiana/Indianapolis:20260523T090000
DTEND;TZID=America/Indiana/Indianapolis:20260523T130000
DTSTAMP:20260425T084958
CREATED:20260423T231711Z
LAST-MODIFIED:20260423T231711Z
UID:8722-1779526800-1779541200@urbanknox.com
SUMMARY:Market Square Farmers Market
DESCRIPTION:Open-air\, producer-only farmers market managed by Nourish Knoxville and held every Wednesday and Saturday\, May through October in the heart of downtown Knoxville. 
URL:https://urbanknox.com/event/market-square-farmers-market-7/
LOCATION:Market Square
CATEGORIES:Special Event
END:VEVENT
BEGIN:VEVENT
DTSTART;TZID=America/Indiana/Indianapolis:20260525T080000
DTEND;TZID=America/Indiana/Indianapolis:20260525T163000
DTSTAMP:20260425T084958
CREATED:20260423T231711Z
LAST-MODIFIED:20260423T231711Z
UID:8724-1779696000-1779726600@urbanknox.com
SUMMARY:Honor Fountain City Day
DESCRIPTION:Annual event to celebrate Veterans on Memorial Day.
URL:https://urbanknox.com/event/honor-fountain-city-day/
LOCATION:Fountain City Park on Hotel + Broadway
CATEGORIES:Special Event
END:VEVENT
BEGIN:VEVENT
DTSTART;TZID=America/Indiana/Indianapolis:20260526T190000
DTEND;TZID=America/Indiana/Indianapolis:20260526T210000
DTSTAMP:20260425T084958
CREATED:20260423T231711Z
LAST-MODIFIED:20260423T231711Z
UID:8732-1779822000-1779829200@urbanknox.com
SUMMARY:Mind Travel Live to Headphones 'Silent' Piano Concert
DESCRIPTION:Live piano concert broadcasted to wireless headphones.
URL:https://urbanknox.com/event/mind-travel-live-to-headphones-silent-piano-concert/
LOCATION:World’s Fair Park Performance Lawn
CATEGORIES:Special Event
END:VEVENT
BEGIN:VEVENT
DTSTART;TZID=America/Indiana/Indianapolis:20260527T100000
DTEND;TZID=America/Indiana/Indianapolis:20260527T130000
DTSTAMP:20260425T084958
CREATED:20260423T231711Z
LAST-MODIFIED:20260423T231711Z
UID:8733-1779876000-1779886800@urbanknox.com
SUMMARY:Market Square Farmers Market
DESCRIPTION:Open-air\, producer-only farmers market managed by Nourish Knoxville and held every Wednesday and Saturday\, May through October in the heart of downtown Knoxville. 
URL:https://urbanknox.com/event/market-square-farmers-market-8/
LOCATION:Market Square
CATEGORIES:Special Event
END:VEVENT
BEGIN:VEVENT
DTSTART;TZID=America/Indiana/Indianapolis:20260530T070000
DTEND;TZID=America/Indiana/Indianapolis:20260530T190000
DTSTAMP:20260425T084958
CREATED:20260423T231712Z
LAST-MODIFIED:20260423T231712Z
UID:8743-1780124400-1780167600@urbanknox.com
SUMMARY:BAPS Charities Walk/Run
DESCRIPTION:Annual event to encourage healthier lifestyles among the community. 
URL:https://urbanknox.com/event/baps-charities-walk-run/
LOCATION:Victor Ashe Park
CATEGORIES:Special Event
END:VEVENT
BEGIN:VEVENT
DTSTART;TZID=America/Indiana/Indianapolis:20260530T090000
DTEND;TZID=America/Indiana/Indianapolis:20260530T130000
DTSTAMP:20260425T084958
CREATED:20260423T231712Z
LAST-MODIFIED:20260423T231712Z
UID:8740-1780131600-1780146000@urbanknox.com
SUMMARY:Market Square Farmers Market
DESCRIPTION:Open-air\, producer-only farmers market managed by Nourish Knoxville and held every Wednesday and Saturday\, May through October in the heart of downtown Knoxville. 
URL:https://urbanknox.com/event/market-square-farmers-market-9/
LOCATION:Market Square
CATEGORIES:Special Event
END:VEVENT
BEGIN:VEVENT
DTSTART;TZID=America/Indiana/Indianapolis:20260530T100000
DTEND;TZID=America/Indiana/Indianapolis:20260530T170000
DTSTAMP:20260425T084958
CREATED:20260423T231712Z
LAST-MODIFIED:20260423T231712Z
UID:8742-1780135200-1780160400@urbanknox.com
SUMMARY:Knoxville's Largest Kids' Party
DESCRIPTION:A kickoff to summer for children and families in the community. The party will have bounce houses\, games\, live performances\, and a petting zoo. This event will benefit Childhelp Tennessee. 
URL:https://urbanknox.com/event/knoxvilles-largest-kids-party/
LOCATION:World’s Fair Park Performance Lawn
CATEGORIES:Special Event
END:VEVENT
BEGIN:VEVENT
DTSTART;TZID=America/Indiana/Indianapolis:20260530T120000
DTEND;TZID=America/Indiana/Indianapolis:20260530T200000
DTSTAMP:20260425T084958
CREATED:20260423T231712Z
LAST-MODIFIED:20260423T231712Z
UID:8739-1780142400-1780171200@urbanknox.com
SUMMARY:KnoxWalls Murals & Music Festival
DESCRIPTION:KnoxWalls is a free community festival that will bring together live mural painting\, live music\, food trucks\, and fun all in a celebration of Knoxville’s thriving arts scene and creative spirit. 
URL:https://urbanknox.com/event/knoxwalls-murals-music-festival/
LOCATION:Emory Place
CATEGORIES:Special Event
END:VEVENT
END:VCALENDAR