BEGIN:VCALENDAR
VERSION:2.0
PRODID:-//UrbanKnox.com - ECPv6.15.20//NONSGML v1.0//EN
CALSCALE:GREGORIAN
METHOD:PUBLISH
X-WR-CALNAME:UrbanKnox.com
X-ORIGINAL-URL:https://urbanknox.com
X-WR-CALDESC:Events for UrbanKnox.com
REFRESH-INTERVAL;VALUE=DURATION:PT1H
X-Robots-Tag:noindex
X-PUBLISHED-TTL:PT1H
BEGIN:VTIMEZONE
TZID:America/Indiana/Indianapolis
BEGIN:DAYLIGHT
TZOFFSETFROM:-0500
TZOFFSETTO:-0400
TZNAME:EDT
DTSTART:20250309T070000
END:DAYLIGHT
BEGIN:STANDARD
TZOFFSETFROM:-0400
TZOFFSETTO:-0500
TZNAME:EST
DTSTART:20251102T060000
END:STANDARD
BEGIN:DAYLIGHT
TZOFFSETFROM:-0500
TZOFFSETTO:-0400
TZNAME:EDT
DTSTART:20260308T070000
END:DAYLIGHT
BEGIN:STANDARD
TZOFFSETFROM:-0400
TZOFFSETTO:-0500
TZNAME:EST
DTSTART:20261101T060000
END:STANDARD
BEGIN:DAYLIGHT
TZOFFSETFROM:-0500
TZOFFSETTO:-0400
TZNAME:EDT
DTSTART:20270314T070000
END:DAYLIGHT
BEGIN:STANDARD
TZOFFSETFROM:-0400
TZOFFSETTO:-0500
TZNAME:EST
DTSTART:20271107T060000
END:STANDARD
END:VTIMEZONE
BEGIN:VEVENT
DTSTART;TZID=America/Indiana/Indianapolis:20260604T083000
DTEND;TZID=America/Indiana/Indianapolis:20260604T093000
DTSTAMP:20260425T101453
CREATED:20260423T231712Z
LAST-MODIFIED:20260423T231712Z
UID:8747-1780561800-1780565400@urbanknox.com
SUMMARY:City Tree Board Meeting
DESCRIPTION:Learn more about the City Tree Board
URL:https://urbanknox.com/event/city-tree-board-meeting-2/
LOCATION:Public Works Service Center\, 3131 Morris Ave.
CATEGORIES:Public Meetings
END:VEVENT
BEGIN:VEVENT
DTSTART;TZID=America/Indiana/Indianapolis:20260609T160000
DTEND;TZID=America/Indiana/Indianapolis:20260609T170000
DTSTAMP:20260425T101453
CREATED:20260423T231712Z
LAST-MODIFIED:20260423T231712Z
UID:8763-1781020800-1781024400@urbanknox.com
SUMMARY:Greenways Commission Meeting
DESCRIPTION:
URL:https://urbanknox.com/event/greenways-commission-meeting/
LOCATION:Public Works Service Center\, 3131 Morris Ave.
CATEGORIES:Public Meetings
END:VEVENT
BEGIN:VEVENT
DTSTART;TZID=America/Indiana/Indianapolis:20260610T133000
DTEND;TZID=America/Indiana/Indianapolis:20260610T143000
DTSTAMP:20260425T101453
CREATED:20260423T231713Z
LAST-MODIFIED:20260423T231713Z
UID:8767-1781098200-1781101800@urbanknox.com
SUMMARY:Civil Service Merit Board
DESCRIPTION:
URL:https://urbanknox.com/event/civil-service-merit-board-2/
LOCATION:Conference Room 461 City County Building
CATEGORIES:Public Meetings
END:VEVENT
BEGIN:VEVENT
DTSTART;TZID=America/Indiana/Indianapolis:20260610T163000
DTEND;TZID=America/Indiana/Indianapolis:20260610T180000
DTSTAMP:20260425T101453
CREATED:20260423T231713Z
LAST-MODIFIED:20260423T231713Z
UID:8768-1781109000-1781114400@urbanknox.com
SUMMARY:Neighborhood Advisory Council Meeting
DESCRIPTION:Learn more about the Neighborhood Advisory Council
URL:https://urbanknox.com/event/neighborhood-advisory-council-meeting-2/
LOCATION:Public Works Service Center\, 3131 Morris Ave.
CATEGORIES:Public Meetings
END:VEVENT
BEGIN:VEVENT
DTSTART;TZID=America/Indiana/Indianapolis:20260611T080000
DTEND;TZID=America/Indiana/Indianapolis:20260611T090000
DTSTAMP:20260425T101453
CREATED:20260423T231713Z
LAST-MODIFIED:20260423T231713Z
UID:8770-1781164800-1781168400@urbanknox.com
SUMMARY:Local Emergency Planning Committee Meeting
DESCRIPTION:
URL:https://urbanknox.com/event/local-emergency-planning-committee-meeting-2/
LOCATION:EOC – Emergency Operations Center\, 1630 Huron Street\, 3rd Floor
CATEGORIES:Public Meetings
END:VEVENT
BEGIN:VEVENT
DTSTART;TZID=America/Indiana/Indianapolis:20260611T133000
DTEND;TZID=America/Indiana/Indianapolis:20260611T163000
DTSTAMP:20260425T101453
CREATED:20260423T231713Z
LAST-MODIFIED:20260423T231713Z
UID:8772-1781184600-1781195400@urbanknox.com
SUMMARY:Planning Commission Meeting
DESCRIPTION:Learn more
URL:https://urbanknox.com/event/planning-commission-meeting-2/
LOCATION:Main Assembly Room of the City-County Building
CATEGORIES:Public Meetings
END:VEVENT
BEGIN:VEVENT
DTSTART;TZID=America/Indiana/Indianapolis:20260616T160000
DTEND;TZID=America/Indiana/Indianapolis:20260616T180000
DTSTAMP:20260425T101453
CREATED:20260423T231713Z
LAST-MODIFIED:20260423T231713Z
UID:8779-1781625600-1781632800@urbanknox.com
SUMMARY:Board of Zoning Appeals Meeting
DESCRIPTION:
URL:https://urbanknox.com/event/board-of-zoning-appeals-meeting-2/
LOCATION:City County Bldg.\, Small Assembly Room
CATEGORIES:Public Meetings
END:VEVENT
BEGIN:VEVENT
DTSTART;TZID=America/Indiana/Indianapolis:20260617T160000
DTEND;TZID=America/Indiana/Indianapolis:20260617T170000
DTSTAMP:20260425T101453
CREATED:20260423T231713Z
LAST-MODIFIED:20260423T231713Z
UID:8783-1781712000-1781715600@urbanknox.com
SUMMARY:Design Review Board
DESCRIPTION:Learn more
URL:https://urbanknox.com/event/design-review-board-2/
LOCATION:Small Assembly Room of the City County Building
CATEGORIES:Public Meetings
END:VEVENT
BEGIN:VEVENT
DTSTART;TZID=America/Indiana/Indianapolis:20260617T160000
DTEND;TZID=America/Indiana/Indianapolis:20260617T170000
DTSTAMP:20260425T101453
CREATED:20260423T231713Z
LAST-MODIFIED:20260423T231713Z
UID:8782-1781712000-1781715600@urbanknox.com
SUMMARY:MKAA Board of Commissioners’ Meeting
DESCRIPTION:Learn more
URL:https://urbanknox.com/event/mkaa-board-of-commissioners-meeting-2/
LOCATION:McGhee Tyson Airport
CATEGORIES:Public Meetings
END:VEVENT
BEGIN:VEVENT
DTSTART;TZID=America/Indiana/Indianapolis:20260618T083000
DTEND;TZID=America/Indiana/Indianapolis:20260618T093000
DTSTAMP:20260425T101453
CREATED:20260423T231713Z
LAST-MODIFIED:20260423T231713Z
UID:8784-1781771400-1781775000@urbanknox.com
SUMMARY:Historic Zoning Commission
DESCRIPTION:Learn more
URL:https://urbanknox.com/event/historic-zoning-commission-2/
LOCATION:Small Assembly Room of the City County Building
CATEGORIES:Public Meetings
END:VEVENT
BEGIN:VEVENT
DTSTART;TZID=America/Indiana/Indianapolis:20260625T150000
DTEND;TZID=America/Indiana/Indianapolis:20260625T160000
DTSTAMP:20260425T101453
CREATED:20260423T231714Z
LAST-MODIFIED:20260423T231714Z
UID:8796-1782399600-1782403200@urbanknox.com
SUMMARY:Knoxville Transportation Authority Board meeting
DESCRIPTION:Click here to learn more
URL:https://urbanknox.com/event/knoxville-transportation-authority-board-meeting-2/
LOCATION:Main or Small Assembly Room at City County Building
CATEGORIES:Public Meetings
END:VEVENT
BEGIN:VEVENT
DTSTART;TZID=America/Indiana/Indianapolis:20260625T153000
DTEND;TZID=America/Indiana/Indianapolis:20260625T163000
DTSTAMP:20260425T101453
CREATED:20260423T231714Z
LAST-MODIFIED:20260423T231714Z
UID:8797-1782401400-1782405000@urbanknox.com
SUMMARY:Better Building Board
DESCRIPTION:
URL:https://urbanknox.com/event/better-building-board-2/
LOCATION:Small Assembly Room of the City County Building
CATEGORIES:Public Meetings
END:VEVENT
BEGIN:VEVENT
DTSTART;TZID=America/Indiana/Indianapolis:20260626T093000
DTEND;TZID=America/Indiana/Indianapolis:20260626T113000
DTSTAMP:20260425T101453
CREATED:20260423T231714Z
LAST-MODIFIED:20260423T231714Z
UID:8799-1782466200-1782473400@urbanknox.com
SUMMARY:Public Officer Hearings
DESCRIPTION:
URL:https://urbanknox.com/event/public-officer-hearings-3/
LOCATION:Small Assembly Room of the City County Building
CATEGORIES:Public Meetings
END:VEVENT
BEGIN:VEVENT
DTSTART;TZID=America/Indiana/Indianapolis:20260702T083000
DTEND;TZID=America/Indiana/Indianapolis:20260702T093000
DTSTAMP:20260425T101453
CREATED:20260423T231714Z
LAST-MODIFIED:20260423T231714Z
UID:8805-1782981000-1782984600@urbanknox.com
SUMMARY:City Tree Board Meeting
DESCRIPTION:Learn more about the City Tree Board
URL:https://urbanknox.com/event/city-tree-board-meeting-3/
LOCATION:Public Works Service Center\, 3131 Morris Ave.
CATEGORIES:Public Meetings
END:VEVENT
END:VCALENDAR