BEGIN:VCALENDAR
VERSION:2.0
PRODID:-//UrbanKnox.com - ECPv6.15.20//NONSGML v1.0//EN
CALSCALE:GREGORIAN
METHOD:PUBLISH
X-ORIGINAL-URL:https://urbanknox.com
X-WR-CALDESC:Events for UrbanKnox.com
REFRESH-INTERVAL;VALUE=DURATION:PT1H
X-Robots-Tag:noindex
X-PUBLISHED-TTL:PT1H
BEGIN:VTIMEZONE
TZID:America/Indiana/Indianapolis
BEGIN:DAYLIGHT
TZOFFSETFROM:-0500
TZOFFSETTO:-0400
TZNAME:EDT
DTSTART:20250309T070000
END:DAYLIGHT
BEGIN:STANDARD
TZOFFSETFROM:-0400
TZOFFSETTO:-0500
TZNAME:EST
DTSTART:20251102T060000
END:STANDARD
BEGIN:DAYLIGHT
TZOFFSETFROM:-0500
TZOFFSETTO:-0400
TZNAME:EDT
DTSTART:20260308T070000
END:DAYLIGHT
BEGIN:STANDARD
TZOFFSETFROM:-0400
TZOFFSETTO:-0500
TZNAME:EST
DTSTART:20261101T060000
END:STANDARD
BEGIN:DAYLIGHT
TZOFFSETFROM:-0500
TZOFFSETTO:-0400
TZNAME:EDT
DTSTART:20270314T070000
END:DAYLIGHT
BEGIN:STANDARD
TZOFFSETFROM:-0400
TZOFFSETTO:-0500
TZNAME:EST
DTSTART:20271107T060000
END:STANDARD
END:VTIMEZONE
BEGIN:VTIMEZONE
TZID:America/New_York
BEGIN:DAYLIGHT
TZOFFSETFROM:-0500
TZOFFSETTO:-0400
TZNAME:EDT
DTSTART:20250309T070000
END:DAYLIGHT
BEGIN:STANDARD
TZOFFSETFROM:-0400
TZOFFSETTO:-0500
TZNAME:EST
DTSTART:20251102T060000
END:STANDARD
BEGIN:DAYLIGHT
TZOFFSETFROM:-0500
TZOFFSETTO:-0400
TZNAME:EDT
DTSTART:20260308T070000
END:DAYLIGHT
BEGIN:STANDARD
TZOFFSETFROM:-0400
TZOFFSETTO:-0500
TZNAME:EST
DTSTART:20261101T060000
END:STANDARD
BEGIN:DAYLIGHT
TZOFFSETFROM:-0500
TZOFFSETTO:-0400
TZNAME:EDT
DTSTART:20270314T070000
END:DAYLIGHT
BEGIN:STANDARD
TZOFFSETFROM:-0400
TZOFFSETTO:-0500
TZNAME:EST
DTSTART:20271107T060000
END:STANDARD
END:VTIMEZONE
BEGIN:VEVENT
DTSTART;TZID=America/Indiana/Indianapolis:20260513T100000
DTEND;TZID=America/Indiana/Indianapolis:20260513T130000
DTSTAMP:20260424T144926
CREATED:20260423T231710Z
LAST-MODIFIED:20260423T231710Z
UID:8692-1778666400-1778677200@urbanknox.com
SUMMARY:Market Square Farmers Market
DESCRIPTION:Open-air\, producer-only farmers market managed by Nourish Knoxville and held every Wednesday and Saturday\, May through October in the heart of downtown Knoxville. 
URL:https://urbanknox.com/event/market-square-farmers-market-4/
LOCATION:Market Square
CATEGORIES:Special Event
END:VEVENT
BEGIN:VEVENT
DTSTART;TZID=America/Indiana/Indianapolis:20260513T133000
DTEND;TZID=America/Indiana/Indianapolis:20260513T143000
DTSTAMP:20260424T144926
CREATED:20260423T231710Z
LAST-MODIFIED:20260423T231710Z
UID:8694-1778679000-1778682600@urbanknox.com
SUMMARY:Civil Service Merit Board
DESCRIPTION:
URL:https://urbanknox.com/event/civil-service-merit-board/
LOCATION:Conference Room 461 City County Building
CATEGORIES:Public Meetings
END:VEVENT
BEGIN:VEVENT
DTSTART;TZID=America/Indiana/Indianapolis:20260513T163000
DTEND;TZID=America/Indiana/Indianapolis:20260513T180000
DTSTAMP:20260424T144926
CREATED:20260423T231710Z
LAST-MODIFIED:20260423T231710Z
UID:8696-1778689800-1778695200@urbanknox.com
SUMMARY:Neighborhood Advisory Council Meeting
DESCRIPTION:Learn more about the Neighborhood Advisory Council
URL:https://urbanknox.com/event/neighborhood-advisory-council-meeting/
LOCATION:Public Works Service Center\, 3131 Morris Ave.
CATEGORIES:Public Meetings
END:VEVENT
BEGIN:VEVENT
DTSTART;TZID=America/New_York:20260513T190000
DTEND;TZID=America/New_York:20260513T210000
DTSTAMP:20260424T144926
CREATED:20260423T234443Z
LAST-MODIFIED:20260423T234443Z
UID:8818-1778698800-1778706000@urbanknox.com
SUMMARY:One Knoxville SC vs Union Omaha
DESCRIPTION:One Knoxville SC vs Union Omaha
URL:https://urbanknox.com/event/one-knoxville-sc-vs-union-omaha/
LOCATION:Covenant Health Park
END:VEVENT
END:VCALENDAR